BEGIN:VCALENDAR
VERSION:2.0
PRODID:-//Forestale Safaris - ECPv6.3.5//NONSGML v1.0//EN
CALSCALE:GREGORIAN
METHOD:PUBLISH
X-ORIGINAL-URL:https://forestalesafaris.com
X-WR-CALDESC:Events for Forestale Safaris
REFRESH-INTERVAL;VALUE=DURATION:PT1H
X-Robots-Tag:noindex
X-PUBLISHED-TTL:PT1H
BEGIN:VTIMEZONE
TZID:UTC
BEGIN:STANDARD
TZOFFSETFROM:+0000
TZOFFSETTO:+0000
TZNAME:UTC
DTSTART:20240101T000000
END:STANDARD
END:VTIMEZONE
BEGIN:VEVENT
DTSTART;VALUE=DATE:20240303
DTEND;VALUE=DATE:20240701
DTSTAMP:20260425T205129
CREATED:20240122T145534Z
LAST-MODIFIED:20240124T221357Z
UID:1614-1709424000-1719791999@forestalesafaris.com
SUMMARY:Tiger Safaris - Tadoba
DESCRIPTION:  \nForestale Safaris invite participants for our Summer Camps to Tadoba Andhari Tiger Reserve\, Chandrapur\, Maharashtra. \nThis is a recurring event happening almost every week till June 2024. \nMain Categories:  \n\nSolo Travelers & couples – Camp (Sharing Jeep safaris\, Separate Rooms for Couples & sharing for solo travelers)\nFamily Vacation – Personal Customized Plan\nSmall Groups – Customized Trip\, Min. group size 6 Adults.\nCorporate Event\nSchool Camps\nInternational Guests\n\n Key Highlights: \n\n3Days/2Nights Stay (Min.)\n3 Jungle Jeep Safaris\nFood Included (Breakfast Lunch & Dinner with High Tea)\nBoating in ERAI Backwaters\nZiplining/Artificial Rock Climbing for children upto 12 Yrs\nLearning on the go. Nature/Wildlife Orientation\n\nOptional: \n\nLoghut Stay inside the forest\nNature Walk in the jungle\nCycling\nKayaking\n\nFor Details & Booking your Slot Call: +91 630 452 1443 / 630 293 7483
URL:https://forestalesafaris.com/event/tiger-safaris-tadoba/
LOCATION:Tadoba Andhari Tiger Reserve\, Tadoba Andhari Tiger Reserve\, Chandrapur\, Maharashtra\, 442401\, India
ATTACH;FMTTYPE=image/webp:https://forestalesafaris.com/wp-content/uploads/2024/01/FS_Glry10.webp
END:VEVENT
BEGIN:VEVENT
DTSTART;VALUE=DATE:20240511
DTEND;VALUE=DATE:20240520
DTSTAMP:20260425T205129
CREATED:20240122T190742Z
LAST-MODIFIED:20240124T221402Z
UID:1638-1715385600-1716163199@forestalesafaris.com
SUMMARY:Tiger Safaris - Tipeshwar
DESCRIPTION:Join our Tipeshwar Wildlife Summar Camps this May’24 \n Key Highlights: \n\n3Days/2Nights Stay (Min.)\n3 Jungle Jeep Safaris\nFood Included (Breakfast Lunch & Dinner with High Tea)\nLearning on the go. Nature/Wildlife Orientation\n\nFor Details & Booking your Slot Call: +91 630 452 1443 / 630 293 7483
URL:https://forestalesafaris.com/event/tiger-safaris-tipeshwar-maharashtra/
LOCATION:Tipeshwar Wildlife Sanctuary\, Tipeshwar Wildlife Sanctuary\, Post Patanbori\, Tal. Khedpur\,Yavatmal\, Maharashtra\, 445302\, India
ATTACH;FMTTYPE=image/webp:https://forestalesafaris.com/wp-content/uploads/2024/01/FS_Glry15.webp
END:VEVENT
END:VCALENDAR