BEGIN:VCALENDAR
VERSION:2.0
PRODID:-//Forestale Safaris - ECPv6.3.5//NONSGML v1.0//EN
CALSCALE:GREGORIAN
METHOD:PUBLISH
X-ORIGINAL-URL:https://forestalesafaris.com
X-WR-CALDESC:Events for Forestale Safaris
REFRESH-INTERVAL;VALUE=DURATION:PT1H
X-Robots-Tag:noindex
X-PUBLISHED-TTL:PT1H
BEGIN:VTIMEZONE
TZID:UTC
BEGIN:STANDARD
TZOFFSETFROM:+0000
TZOFFSETTO:+0000
TZNAME:UTC
DTSTART:20240101T000000
END:STANDARD
END:VTIMEZONE
BEGIN:VEVENT
DTSTART;TZID=UTC:20240703T120000
DTEND;TZID=UTC:20240707T110000
DTSTAMP:20260425T155337
CREATED:20240124T220324Z
LAST-MODIFIED:20240125T124222Z
UID:1848-1720008000-1720350000@forestalesafaris.com
SUMMARY:‘Be A Naturalist’ Course - Anirudh Chaoji
DESCRIPTION:Who is a Naturalist? \nIsn’t he/she someone who appreciates the nature and wants to learn about it as much as being in it? You dont have to be a qualified scientist or a degree holder to be in sync with nature. If you have the desire to be in nature and a passion to contribute towards a greener tomorrow\, here is an opportunity to learn from the best. \nForestale Safaris in collaboration with Ran Mangli Foundation invites you to join the course tailor made and facilitated by world renowned Biologist\, Sr. Naturalist & Director of Ran Mangali foundation Mr. Anirudh Chaoji. He needs no introduction  and has a wealth of experience in wildlife/nature conservancy  and upliftment of communities in and around the forests of India. Winner of the prestigious TOFTigers Community Initiative award. \nWhat Will You Learn/ Itinerary: \nDay 1 \n\nParticipants reach Campsite by 12 noon\nOrientation about arrangements (1:00 pm)\nTent allotment and Lunch (2:00 pm)\nDistribution of course material. (3:00 pm)\nParticipants learn more about each other through an interesting activity. (03:15 to 5:00pm)\nDevelop rules for behavior and interaction during the course (03:15 to 5:00pm)\nActivity – Field Visit. Jungle stroll. Introduction to Camera Trapping 05:00PM to 7:30PM\nDaily Wrap Up and Review / Announcements (8:00PM to 8:30PM)\nEvening Meal (8:30pm)\nEnd of Day\n\nDay 2 \n\nWake up (5:30AM)\nField Visit & Drone demonstration by an expert (6:00 AM to 10:30AM)\nReturn to base. Freshen up (11:00 to 1:30PM)\nLunch (01:30 PM – 2.30 PM)\nActivity (indoor) Discussions with the Wildlife Vet (2:30PM to 4:30PM)\nWildlife Skills Session – Work of an Ecologist (4:30PM to 5:00PM)\nTea\nField Visit: Buffer Zone in the dark with an Ecologist (5:15 PM – 8:30 PM)\nEvening Meal (8:30 PM –9:30 PM)\nQuick wrap up and review (10:00PM -10:30 PM)\n\nDay 3 \n\nField Visit: Track and sign identifications with wildlife Biologist (6:30 AM – 11:30AM)\nImportance of Meadow.\nInteraction with Forest Field Staff.\nWorking breakfast – Hazards of Forest Fire\nBath & Leisure Time (11.30 AM -12.30 PM)\nSession – Discussions on Wildlife Crime –Prevention and Detection (12:30 PM- 01.30 PM)\nDiscussions with STPF\nLunch Break (01:30 PM- 02.30 PM)\nInteractions with STPF and walk into buffer – Skills for checking wildlife crime areas (02:30 PM-  03:30 PM)\nReturn for early dinner (06:00 PM)\n\nDay 4 \n\nEarly morning trek in the Forest with Forest Officers to understand what it takes to conserve the forest. (06:00 AM- 09:30 AM)\nBreakfast (9:30 AM- 10:30 AM)\nDe-brief of field learning (1030 AM- 11:30 AM)\nJungle Safari (02:00 PM- 06:00 PM)\n\nDay 5 \n\nBird-watching and understanding the role of a large waterbody in the success of an ecosystem.06:00 AM-09:30 AM\nBreakfast (09:30 AM- 10:30 AM)\nPack up and closing ceremony (11:00 AM)\n\nEach Batch is limited to 15 Seats Only. Call to discuss and book your spot today.
URL:https://forestalesafaris.com/event/be-a-naturalist-course/
LOCATION:Ran Mangali_Umred Kharandla Forest Area\, Survey - 74 Village Ran Mangli\, Umred\, Maharashtra\, 441201\, India
ATTACH;FMTTYPE=image/webp:https://forestalesafaris.com/wp-content/uploads/2024/01/n6.webp
ORGANIZER;CN="Forestale Safaris":MAILTO:forestalesafaris@gmail.com
END:VEVENT
END:VCALENDAR